BEGIN:VCALENDAR
VERSION:2.0
PRODID:SchoolNow
CALSCALE:GREGORIAN
BEGIN:VEVENT
UID:6c338700-7251-11f0-a045-029ea1ab5cf7
DTSTAMP:20260423T073507Z
SUMMARY:8th Grade Assembly (Gym)
LOCATION:Gym
URL;VALUE=URI:https://www.tusd.org/schools/west-high-school/calendar/847368
 6/8th-grade-assembly-gym
DTSTART:20260304T183000Z
DTEND:20260304T200000Z
END:VEVENT
END:VCALENDAR
