BEGIN:VCALENDAR
VERSION:2.0
PRODID:SchoolNow
CALSCALE:GREGORIAN
BEGIN:VEVENT
UID:6c33853e-7251-11f0-b7b2-029ea1ab5cf7
DTSTAMP:20260423T073507Z
SUMMARY:Band Pops Concert - PAC
URL;VALUE=URI:https://www.tusd.org/schools/west-high-school/calendar/847368
 4/band-pops-concert-pac
DTSTART:20260226T030000Z
DTEND:20260226T040000Z
END:VEVENT
END:VCALENDAR
