BEGIN:VCALENDAR
VERSION:2.0
PRODID:SchoolNow
CALSCALE:GREGORIAN
BEGIN:VEVENT
UID:6c338458-7251-11f0-b6dd-029ea1ab5cf7
DTSTAMP:20260423T073507Z
SUMMARY:West Fest/ Incoming Freshmen Family Night
URL;VALUE=URI:https://www.tusd.org/schools/west-high-school/calendar/847368
 3/west-fest-incoming-freshmen-family-night
DTSTART:20260225T023000Z
DTEND:20260225T040000Z
END:VEVENT
END:VCALENDAR
