BEGIN:VCALENDAR
VERSION:2.0
PRODID:SchoolNow
CALSCALE:GREGORIAN
BEGIN:VEVENT
UID:6c33828c-7251-11f0-b106-029ea1ab5cf7
DTSTAMP:20260423T073507Z
SUMMARY:College and Career Fair -District @ Torrance High School
LOCATION:Torrance High School\, 2200 W Carson St\, Torrance\, CA 90501\, US
 A
URL;VALUE=URI:https://www.tusd.org/schools/west-high-school/calendar/847368
 1/college-and-career-fair-district-torrance-high-school
DTSTART;VALUE=DATE:20260221
DTEND;VALUE=DATE:20260222
END:VEVENT
END:VCALENDAR
