BEGIN:VCALENDAR
VERSION:2.0
PRODID:SchoolNow
CALSCALE:GREGORIAN
BEGIN:VEVENT
UID:6c3381a6-7251-11f0-b844-029ea1ab5cf7
DTSTAMP:20260423T073507Z
SUMMARY:ELPAC Testing
URL;VALUE=URI:https://www.tusd.org/schools/west-high-school/calendar/847368
 0/elpac-testing
DTSTART;VALUE=DATE:20260219
DTEND;VALUE=DATE:20260220
END:VEVENT
END:VCALENDAR
