BEGIN:VCALENDAR
VERSION:2.0
PRODID:SchoolNow
CALSCALE:GREGORIAN
BEGIN:VEVENT
UID:6c3380c0-7251-11f0-9b17-029ea1ab5cf7
DTSTAMP:20260423T073507Z
SUMMARY:TUSD Dance Show at the Armstrong Theatre
URL;VALUE=URI:https://www.tusd.org/schools/west-high-school/calendar/847367
 9/tusd-dance-show-at-the-armstrong-theatre
DTSTART:20260220T030000Z
DTEND:20260220T040000Z
END:VEVENT
END:VCALENDAR
