BEGIN:VCALENDAR
VERSION:2.0
PRODID:SchoolNow
CALSCALE:GREGORIAN
BEGIN:VEVENT
UID:6c337eea-7251-11f0-8844-029ea1ab5cf7
DTSTAMP:20260423T073507Z
SUMMARY:PTSA Association Meeting - (HSA's\, Reflections & Election)
URL;VALUE=URI:https://www.tusd.org/schools/west-high-school/calendar/847367
 7/ptsa-association-meeting-hsas-reflections-election
DTSTART:20260219T013000Z
DTEND:20260219T023000Z
END:VEVENT
END:VCALENDAR
