BEGIN:VCALENDAR
VERSION:2.0
PRODID:SchoolNow
CALSCALE:GREGORIAN
BEGIN:VEVENT
UID:6c337e0e-7251-11f0-a946-029ea1ab5cf7
DTSTAMP:20260423T073507Z
SUMMARY:ELPAC Testing
URL;VALUE=URI:https://www.tusd.org/schools/west-high-school/calendar/847367
 6/elpac-testing
DTSTART;VALUE=DATE:20260218
DTEND;VALUE=DATE:20260219
END:VEVENT
END:VCALENDAR
