BEGIN:VCALENDAR
VERSION:2.0
PRODID:SchoolNow
CALSCALE:GREGORIAN
BEGIN:VEVENT
UID:6c337d1e-7251-11f0-b644-029ea1ab5cf7
DTSTAMP:20260423T073507Z
SUMMARY:Welcome to West - Mrs. Murata @ Jefferson Middle School
URL;VALUE=URI:https://www.tusd.org/schools/west-high-school/calendar/847367
 5/welcome-to-west-mrs-murata-jefferson-middle-school
DTSTART:20260218T020000Z
DTEND:20260218T030000Z
END:VEVENT
END:VCALENDAR
