BEGIN:VCALENDAR
VERSION:2.0
PRODID:SchoolNow
CALSCALE:GREGORIAN
BEGIN:VEVENT
UID:6c33786e-7251-11f0-b4fb-029ea1ab5cf7
DTSTAMP:20260423T073507Z
SUMMARY:Welcome to West - Mrs. Murata @ Bert Lynn Middle School
URL;VALUE=URI:https://www.tusd.org/schools/west-high-school/calendar/847367
 0/welcome-to-west-mrs-murata-bert-lynn-middle-school
DTSTART:20260211T020000Z
DTEND:20260211T030000Z
END:VEVENT
END:VCALENDAR
