BEGIN:VCALENDAR
VERSION:2.0
PRODID:SchoolNow
CALSCALE:GREGORIAN
BEGIN:VEVENT
UID:6c337634-7251-11f0-b041-029ea1ab5cf7
DTSTAMP:20260423T073507Z
SUMMARY:Presidents' Day - No School
URL;VALUE=URI:https://www.tusd.org/schools/west-high-school/calendar/847366
 8/presidents-day-no-school
DTSTART;VALUE=DATE:20260216
DTEND;VALUE=DATE:20260217
END:VEVENT
END:VCALENDAR
