BEGIN:VCALENDAR
VERSION:2.0
PRODID:SchoolNow
CALSCALE:GREGORIAN
BEGIN:VEVENT
UID:6c33749a-7251-11f0-8c39-029ea1ab5cf7
DTSTAMP:20260423T073507Z
SUMMARY:Multicultural Night at the PAC
LOCATION:PAC
URL;VALUE=URI:https://www.tusd.org/schools/west-high-school/calendar/847366
 7/multicultural-night-at-the-pac
DTSTART:20260207T030000Z
DTEND:20260207T033000Z
END:VEVENT
END:VCALENDAR
