BEGIN:VCALENDAR
VERSION:2.0
PRODID:SchoolNow
CALSCALE:GREGORIAN
BEGIN:VEVENT
UID:6c3355be-7251-11f0-8eaf-029ea1ab5cf7
DTSTAMP:20260423T073507Z
SUMMARY:Zoom with Counselors
URL;VALUE=URI:https://www.tusd.org/schools/west-high-school/calendar/847366
 6/zoom-with-counselors
DTSTART:20260204T170000Z
DTEND:20260204T180000Z
END:VEVENT
END:VCALENDAR
