BEGIN:VCALENDAR
VERSION:2.0
PRODID:SchoolNow
CALSCALE:GREGORIAN
BEGIN:VEVENT
UID:6ddcb674-71b8-11f0-8403-0a58a9feac02
DTSTAMP:20260423T134007Z
SUMMARY:Warrior News
URL;VALUE=URI:https://www.tusd.org/schools/west-high-school/calendar/847108
 3/warrior-news
DTSTART;VALUE=DATE:20260126
DTEND;VALUE=DATE:20260127
END:VEVENT
END:VCALENDAR
