BEGIN:VCALENDAR
VERSION:2.0
PRODID:SchoolNow
CALSCALE:GREGORIAN
BEGIN:VEVENT
UID:6ddcb516-71b8-11f0-86f7-0a58a9feac02
DTSTAMP:20260423T134007Z
SUMMARY:Swap Meet sponsored by the Softball team
URL;VALUE=URI:https://www.tusd.org/schools/west-high-school/calendar/847108
 2/swap-meet-sponsored-by-the-softball-team
DTSTART:20260124T150000Z
DTEND:20260124T200000Z
END:VEVENT
END:VCALENDAR
