BEGIN:VCALENDAR
VERSION:2.0
PRODID:SchoolNow
CALSCALE:GREGORIAN
BEGIN:VEVENT
UID:6ddcb2fa-71b8-11f0-b6f6-0a58a9feac02
DTSTAMP:20260423T134007Z
SUMMARY:Finals 5\, 6- students leave @ 12:55 PM
URL;VALUE=URI:https://www.tusd.org/schools/west-high-school/calendar/847108
 1/finals-5-6-students-leave-12-55-pm
DTSTART;VALUE=DATE:20260123
DTEND;VALUE=DATE:20260124
END:VEVENT
END:VCALENDAR
