BEGIN:VCALENDAR
VERSION:2.0
PRODID:SchoolNow
CALSCALE:GREGORIAN
BEGIN:VEVENT
UID:6ddca59e-71b8-11f0-ad0b-0a58a9feac02
DTSTAMP:20260423T134007Z
SUMMARY:Finals 0\, 3\, 4- students leave @ 12:55 PM
URL;VALUE=URI:https://www.tusd.org/schools/west-high-school/calendar/847108
 0/finals-0-3-4-students-leave-12-55-pm
DTSTART;VALUE=DATE:20260122
DTEND;VALUE=DATE:20260123
END:VEVENT
END:VCALENDAR
