BEGIN:VCALENDAR
VERSION:2.0
PRODID:SchoolNow
CALSCALE:GREGORIAN
BEGIN:VEVENT
UID:6d97f084-71b8-11f0-979e-0a58a9feac02
DTSTAMP:20260423T134007Z
SUMMARY:Finals 0\, 1\, 2 - students leave @ 12:55 PM
URL;VALUE=URI:https://www.tusd.org/schools/west-high-school/calendar/847107
 9/finals-0-1-2-students-leave-12-55-pm
DTSTART;VALUE=DATE:20260121
DTEND;VALUE=DATE:20260122
END:VEVENT
END:VCALENDAR
