BEGIN:VCALENDAR
VERSION:2.0
PRODID:SchoolNow
CALSCALE:GREGORIAN
BEGIN:VEVENT
UID:6d97eec2-71b8-11f0-bb6c-0a58a9feac02
DTSTAMP:20260423T134007Z
SUMMARY:PTSA Executive Board Meeting
URL;VALUE=URI:https://www.tusd.org/schools/west-high-school/calendar/847107
 7/ptsa-executive-board-meeting
DTSTART:20260115T023000Z
DTEND:20260115T033000Z
END:VEVENT
END:VCALENDAR
