BEGIN:VCALENDAR
VERSION:2.0
PRODID:SchoolNow
CALSCALE:GREGORIAN
BEGIN:VEVENT
UID:6d97ed00-71b8-11f0-bfbc-0a58a9feac02
DTSTAMP:20260423T134007Z
SUMMARY:Winter Dance Show in the PAC
URL;VALUE=URI:https://www.tusd.org/schools/west-high-school/calendar/847107
 5/winter-dance-show-in-the-pac
DTSTART:20260110T030000Z
DTEND:20260110T033000Z
END:VEVENT
END:VCALENDAR
