BEGIN:VCALENDAR
VERSION:2.0
PRODID:SchoolNow
CALSCALE:GREGORIAN
BEGIN:VEVENT
UID:6d97ec24-71b8-11f0-b727-0a58a9feac02
DTSTAMP:20260423T134007Z
SUMMARY:Warrior News
URL;VALUE=URI:https://www.tusd.org/schools/west-high-school/calendar/847107
 4/warrior-news
DTSTART;VALUE=DATE:20260105
DTEND;VALUE=DATE:20260106
END:VEVENT
END:VCALENDAR
