BEGIN:VCALENDAR
VERSION:2.0
PRODID:SchoolNow
CALSCALE:GREGORIAN
BEGIN:VEVENT
UID:6d97eb3e-71b8-11f0-9e78-0a58a9feac02
DTSTAMP:20260423T134007Z
SUMMARY:Winter Break
URL;VALUE=URI:https://www.tusd.org/schools/west-high-school/calendar/847107
 3/winter-break
DTSTART;VALUE=DATE:20260102
DTEND;VALUE=DATE:20260103
END:VEVENT
END:VCALENDAR
