BEGIN:VCALENDAR
VERSION:2.0
PRODID:SchoolNow
CALSCALE:GREGORIAN
BEGIN:VEVENT
UID:df5cba5a-68f4-11f0-906b-0a58a9feac02
DTSTAMP:20260423T073507Z
SUMMARY:Late Start
URL;VALUE=URI:https://www.tusd.org/schools/west-high-school/calendar/844412
 2/late-start
DTSTART;VALUE=DATE:20260512
DTEND;VALUE=DATE:20260513
END:VEVENT
END:VCALENDAR
