BEGIN:VCALENDAR
VERSION:2.0
PRODID:SchoolNow
CALSCALE:GREGORIAN
BEGIN:VEVENT
UID:df5cb97e-68f4-11f0-852a-0a58a9feac02
DTSTAMP:20260423T073507Z
SUMMARY:Late Start
URL;VALUE=URI:https://www.tusd.org/schools/west-high-school/calendar/844412
 1/late-start
DTSTART;VALUE=DATE:20260505
DTEND;VALUE=DATE:20260506
END:VEVENT
END:VCALENDAR
