BEGIN:VCALENDAR
VERSION:2.0
PRODID:SchoolNow
CALSCALE:GREGORIAN
BEGIN:VEVENT
UID:df5cb474-68f4-11f0-947a-0a58a9feac02
DTSTAMP:20260423T073507Z
SUMMARY:Late Start
URL;VALUE=URI:https://www.tusd.org/schools/west-high-school/calendar/844411
 5/late-start
DTSTART;VALUE=DATE:20260324
DTEND;VALUE=DATE:20260325
END:VEVENT
END:VCALENDAR
