BEGIN:VCALENDAR
VERSION:2.0
PRODID:SchoolNow
CALSCALE:GREGORIAN
BEGIN:VEVENT
UID:df5cb0dc-68f4-11f0-b5f2-0a58a9feac02
DTSTAMP:20260423T073507Z
SUMMARY:Late Start
URL;VALUE=URI:https://www.tusd.org/schools/west-high-school/calendar/844411
 1/late-start
DTSTART;VALUE=DATE:20260224
DTEND;VALUE=DATE:20260225
END:VEVENT
END:VCALENDAR
