BEGIN:VCALENDAR
VERSION:2.0
PRODID:SchoolNow
CALSCALE:GREGORIAN
BEGIN:VEVENT
UID:df5cad8a-68f4-11f0-9b35-0a58a9feac02
DTSTAMP:20260423T134007Z
SUMMARY:Late Start
URL;VALUE=URI:https://www.tusd.org/schools/west-high-school/calendar/844410
 7/late-start
DTSTART;VALUE=DATE:20260127
DTEND;VALUE=DATE:20260128
END:VEVENT
END:VCALENDAR
