BEGIN:VCALENDAR
VERSION:2.0
PRODID:SchoolNow
CALSCALE:GREGORIAN
BEGIN:VEVENT
UID:df5cacb8-68f4-11f0-9c89-0a58a9feac02
DTSTAMP:20260423T134007Z
SUMMARY:No Late Start
URL;VALUE=URI:https://www.tusd.org/schools/west-high-school/calendar/844410
 6/no-late-start
DTSTART;VALUE=DATE:20260120
DTEND;VALUE=DATE:20260121
END:VEVENT
END:VCALENDAR
