BEGIN:VCALENDAR
VERSION:2.0
PRODID:SchoolNow
CALSCALE:GREGORIAN
BEGIN:VEVENT
UID:df5ca966-68f4-11f0-9a68-0a58a9feac02
DTSTAMP:20260423T134007Z
SUMMARY:New Year's Eve
URL;VALUE=URI:https://www.tusd.org/schools/west-high-school/calendar/844410
 2/new-years-eve
DTSTART;VALUE=DATE:20251231
DTEND;VALUE=DATE:20260101
END:VEVENT
END:VCALENDAR
