BEGIN:VCALENDAR
VERSION:2.0
PRODID:SchoolNow
CALSCALE:GREGORIAN
BEGIN:VEVENT
UID:df5ca894-68f4-11f0-94e5-0a58a9feac02
DTSTAMP:20260423T134007Z
SUMMARY:Christmas Day
URL;VALUE=URI:https://www.tusd.org/schools/west-high-school/calendar/844410
 1/christmas-day
DTSTART;VALUE=DATE:20251225
DTEND;VALUE=DATE:20251226
END:VEVENT
END:VCALENDAR
