BEGIN:VCALENDAR
VERSION:2.0
PRODID:SchoolNow
CALSCALE:GREGORIAN
BEGIN:VEVENT
UID:df5ca7c2-68f4-11f0-965d-0a58a9feac02
DTSTAMP:20260423T134007Z
SUMMARY:Christmas Eve
URL;VALUE=URI:https://www.tusd.org/schools/west-high-school/calendar/844410
 0/christmas-eve
DTSTART;VALUE=DATE:20251224
DTEND;VALUE=DATE:20251225
END:VEVENT
END:VCALENDAR
