BEGIN:VCALENDAR
VERSION:2.0
PRODID:SchoolNow
CALSCALE:GREGORIAN
BEGIN:VEVENT
UID:df5ca6f0-68f4-11f0-917c-0a58a9feac02
DTSTAMP:20260423T134007Z
SUMMARY:Winter Break
URL;VALUE=URI:https://www.tusd.org/schools/west-high-school/calendar/844409
 9/winter-break
DTSTART;VALUE=DATE:20251230
DTEND;VALUE=DATE:20251231
END:VEVENT
END:VCALENDAR
