BEGIN:VCALENDAR
VERSION:2.0
PRODID:SchoolNow
CALSCALE:GREGORIAN
BEGIN:VEVENT
UID:df5ca542-68f4-11f0-9d9b-0a58a9feac02
DTSTAMP:20260423T134007Z
SUMMARY:Winter Break
URL;VALUE=URI:https://www.tusd.org/schools/west-high-school/calendar/844409
 7/winter-break
DTSTART;VALUE=DATE:20251226
DTEND;VALUE=DATE:20251227
END:VEVENT
END:VCALENDAR
