BEGIN:VCALENDAR
VERSION:2.0
PRODID:SchoolNow
CALSCALE:GREGORIAN
BEGIN:VEVENT
UID:df5ca466-68f4-11f0-a8f8-0a58a9feac02
DTSTAMP:20260423T134007Z
SUMMARY:Winter Break
URL;VALUE=URI:https://www.tusd.org/schools/west-high-school/calendar/844409
 6/winter-break
DTSTART;VALUE=DATE:20251223
DTEND;VALUE=DATE:20251224
END:VEVENT
END:VCALENDAR
