BEGIN:VCALENDAR
VERSION:2.0
PRODID:SchoolNow
CALSCALE:GREGORIAN
BEGIN:VEVENT
UID:cbdc1728-56d4-11f0-843e-0eda114e79f5
DTSTAMP:20260423T073507Z
SUMMARY:School Site Council
URL;VALUE=URI:https://www.tusd.org/schools/west-high-school/calendar/837527
 6/school-site-council
DTSTART:20260527T223000Z
DTEND:20260527T233000Z
END:VEVENT
END:VCALENDAR
