BEGIN:VCALENDAR
VERSION:2.0
PRODID:SchoolNow
CALSCALE:GREGORIAN
BEGIN:VEVENT
UID:cbdc150c-56d4-11f0-9a8d-0eda114e79f5
DTSTAMP:20260423T073507Z
SUMMARY:Canceled -School Site Council
URL;VALUE=URI:https://www.tusd.org/schools/west-high-school/calendar/837527
 4/canceled-school-site-council
DTSTART:20260318T223000Z
DTEND:20260318T233000Z
END:VEVENT
END:VCALENDAR
