BEGIN:VCALENDAR
VERSION:2.0
PRODID:SchoolNow
CALSCALE:GREGORIAN
BEGIN:VEVENT
UID:cbdc13cc-56d4-11f0-a622-0eda114e79f5
DTSTAMP:20260423T073507Z
SUMMARY:School Site Council
URL;VALUE=URI:https://www.tusd.org/schools/west-high-school/calendar/837527
 3/school-site-council
DTSTART:20260211T233000Z
DTEND:20260212T003000Z
END:VEVENT
END:VCALENDAR
