BEGIN:VCALENDAR
VERSION:2.0
PRODID:SchoolNow
CALSCALE:GREGORIAN
BEGIN:VEVENT
UID:cbdc1264-56d4-11f0-9753-0eda114e79f5
DTSTAMP:20260423T134007Z
SUMMARY:School Site Council
URL;VALUE=URI:https://www.tusd.org/schools/west-high-school/calendar/837527
 2/school-site-council
DTSTART:20260114T233000Z
DTEND:20260115T003000Z
END:VEVENT
END:VCALENDAR
