BEGIN:VCALENDAR
VERSION:2.0
PRODID:SchoolNow
CALSCALE:GREGORIAN
BEGIN:VEVENT
UID:e63f0d94-da20-11f0-a44a-0a58a9feac02
DTSTAMP:20251216T200036Z
SUMMARY:Walteria Elementary STEAM Fair - Time TBD
URL;VALUE=URI:https://www.tusd.org/schools/walteria/calendar/8824703/walter
 ia-elementary-steam-fair-time-tbd
DTSTART;VALUE=DATE:20260219
DTEND;VALUE=DATE:20260220
END:VEVENT
END:VCALENDAR
