BEGIN:VCALENDAR
VERSION:2.0
PRODID:SchoolNow
CALSCALE:GREGORIAN
BEGIN:VEVENT
UID:a8250a3a-cf2c-11f0-a896-0a58a9feac02
DTSTAMP:20251216T200036Z
SUMMARY:Career Day
URL;VALUE=URI:https://www.tusd.org/schools/walteria/calendar/8815134/career
 -day
DTSTART:20260320T160000Z
DTEND:20260320T193000Z
END:VEVENT
END:VCALENDAR
