BEGIN:VCALENDAR
VERSION:2.0
PRODID:SchoolNow
CALSCALE:GREGORIAN
BEGIN:VEVENT
UID:09fe6ab4-c3d2-11f0-bc4a-0affc78e4a87
DTSTAMP:20251216T200036Z
SUMMARY:Coffee with the Principal
LOCATION:Front of School
URL;VALUE=URI:https://www.tusd.org/schools/walteria/calendar/8799723/coffee
 -with-the-principal
DTSTART:20260417T153000Z
DTEND:20260417T160000Z
END:VEVENT
END:VCALENDAR
