BEGIN:VCALENDAR
VERSION:2.0
PRODID:SchoolNow
CALSCALE:GREGORIAN
BEGIN:VEVENT
UID:09fe6334-c3d2-11f0-92a8-0affc78e4a87
DTSTAMP:20251216T200036Z
SUMMARY:Coffee with the Principal
LOCATION:Front of School
URL;VALUE=URI:https://www.tusd.org/schools/walteria/calendar/8799722/coffee
 -with-the-principal
DTSTART:20260116T163000Z
DTEND:20260116T170000Z
END:VEVENT
END:VCALENDAR
