BEGIN:VCALENDAR
VERSION:2.0
PRODID:SchoolNow
CALSCALE:GREGORIAN
BEGIN:VEVENT
UID:6e45172e-bc0d-11f0-9c39-0e0375e02d73
DTSTAMP:20251216T200036Z
SUMMARY:School Site Council Meeting
LOCATION:Walteria Office
URL;VALUE=URI:https://www.tusd.org/schools/walteria/calendar/8783230/school
 -site-council-meeting
DTSTART:20260424T150000Z
DTEND:20260424T154500Z
END:VEVENT
END:VCALENDAR
