BEGIN:VCALENDAR
VERSION:2.0
PRODID:SchoolNow
CALSCALE:GREGORIAN
BEGIN:VEVENT
UID:88b3bcec-b9dc-11f0-8205-0a58a9feac02
DTSTAMP:20251216T200036Z
SUMMARY:School Site Council Meeting
LOCATION:Walteria Office
URL;VALUE=URI:https://www.tusd.org/schools/walteria/calendar/8777700/school
 -site-council-meeting
DTSTART:20251112T160000Z
DTEND:20251112T164500Z
END:VEVENT
END:VCALENDAR
