BEGIN:VCALENDAR
VERSION:2.0
PRODID:SchoolNow
CALSCALE:GREGORIAN
BEGIN:VEVENT
UID:38f2bbbc-87c4-11f0-ac5a-0a58a9feac02
DTSTAMP:20251216T200035Z
SUMMARY:5th Grade Growth & Development Parent Night
LOCATION:https://tusd-org.zoom.us/j/85408968145
URL;VALUE=URI:https://www.tusd.org/schools/walteria/calendar/8569333/5th-gr
 ade-growth-development-parent-night
DTSTART:20251107T011500Z
DTEND:20251107T021500Z
END:VEVENT
END:VCALENDAR
