BEGIN:VCALENDAR
VERSION:2.0
PRODID:SchoolNow
CALSCALE:GREGORIAN
BEGIN:VEVENT
UID:4791b3ee-85c6-11f0-861b-02400b4136c7
DTSTAMP:20251216T200036Z
SUMMARY:School Site Council Meeting
LOCATION:Walteria Office
URL;VALUE=URI:https://www.tusd.org/schools/walteria/calendar/8562031/school
 -site-council-meeting
DTSTART:20251212T160000Z
DTEND:20251212T164500Z
END:VEVENT
END:VCALENDAR
