BEGIN:VCALENDAR
VERSION:2.0
PRODID:SchoolNow
CALSCALE:GREGORIAN
BEGIN:VEVENT
UID:66f265c8-8362-11f0-9e40-0e0797f07fa3
DTSTAMP:20251216T200036Z
SUMMARY:Portfolio Day/Art Show
URL;VALUE=URI:https://www.tusd.org/schools/walteria/calendar/8550171/portfo
 lio-day-art-show
DTSTART:20260512T190000Z
DTEND:20260512T200000Z
END:VEVENT
END:VCALENDAR
