BEGIN:VCALENDAR
VERSION:2.0
PRODID:SchoolNow
CALSCALE:GREGORIAN
BEGIN:VEVENT
UID:84ba2ade-82fc-11f0-917b-0a58a9feac02
DTSTAMP:20251216T200036Z
SUMMARY:APEX Fun Run
URL;VALUE=URI:https://www.tusd.org/schools/walteria/calendar/8548398/apex-f
 un-run
DTSTART;VALUE=DATE:20260423
DTEND;VALUE=DATE:20260424
END:VEVENT
END:VCALENDAR
