BEGIN:VCALENDAR
VERSION:2.0
PRODID:SchoolNow
CALSCALE:GREGORIAN
BEGIN:VEVENT
UID:84ba29f8-82fc-11f0-8c8a-0a58a9feac02
DTSTAMP:20251216T200036Z
SUMMARY:APEX Fun Run Activities
URL;VALUE=URI:https://www.tusd.org/schools/walteria/calendar/8548397/apex-f
 un-run-activities
DTSTART;VALUE=DATE:20260413
DTEND;VALUE=DATE:20260424
END:VEVENT
END:VCALENDAR
