BEGIN:VCALENDAR
VERSION:2.0
PRODID:SchoolNow
CALSCALE:GREGORIAN
BEGIN:VEVENT
UID:84ba2908-82fc-11f0-a2f1-0a58a9feac02
DTSTAMP:20251216T200035Z
SUMMARY:Spring Picture Day
URL;VALUE=URI:https://www.tusd.org/schools/walteria/calendar/8548396/spring
 -picture-day
DTSTART;VALUE=DATE:20260409
DTEND;VALUE=DATE:20260410
END:VEVENT
END:VCALENDAR
